BEGIN:VCALENDAR
VERSION:2.0
PRODID:-//Friends of the Viking Ship - ECPv6.15.18//NONSGML v1.0//EN
CALSCALE:GREGORIAN
METHOD:PUBLISH
X-WR-CALNAME:Friends of the Viking Ship
X-ORIGINAL-URL:https://vikingship.us
X-WR-CALDESC:Events for Friends of the Viking Ship
REFRESH-INTERVAL;VALUE=DURATION:PT1H
X-Robots-Tag:noindex
X-PUBLISHED-TTL:PT1H
BEGIN:VTIMEZONE
TZID:UTC
BEGIN:STANDARD
TZOFFSETFROM:+0000
TZOFFSETTO:+0000
TZNAME:UTC
DTSTART:20240101T000000
END:STANDARD
END:VTIMEZONE
BEGIN:VEVENT
DTSTART;TZID=UTC:20250614T140000
DTEND;TZID=UTC:20250614T150000
DTSTAMP:20260422T044150
CREATED:20250127T171549Z
LAST-MODIFIED:20250217T212343Z
UID:5305-1749909600-1749913200@vikingship.us
SUMMARY:June 14\, 2025 A presentation on Ottilie Lijencrantz and the first Viking movie
DESCRIPTION:A presentation on Ottilie Lijencrantz and the first Viking movie!\n2:00 PM at the Geneva Public Library\, Geneva\, IL!\n227 S 7th St\, Geneva\, IL 60134
URL:https://vikingship.us/event/june-14-2025-a-presentation-on-ottilie-lijencrantz-and-the-first-viking-movie/
LOCATION:Geneva Public Library\, 227 S 7th St\, Geneva\, IL\, United States
CATEGORIES:Presentation
END:VEVENT
END:VCALENDAR